BEGIN:VCALENDAR
VERSION:2.0
PRODID:-//Lee County Republican Assembly - ECPv6.15.20//NONSGML v1.0//EN
CALSCALE:GREGORIAN
METHOD:PUBLISH
X-ORIGINAL-URL:https://leerepublican.com
X-WR-CALDESC:Events for Lee County Republican Assembly
REFRESH-INTERVAL;VALUE=DURATION:PT1H
X-Robots-Tag:noindex
X-PUBLISHED-TTL:PT1H
BEGIN:VTIMEZONE
TZID:America/New_York
BEGIN:DAYLIGHT
TZOFFSETFROM:-0500
TZOFFSETTO:-0400
TZNAME:EDT
DTSTART:20230312T070000
END:DAYLIGHT
BEGIN:STANDARD
TZOFFSETFROM:-0400
TZOFFSETTO:-0500
TZNAME:EST
DTSTART:20231105T060000
END:STANDARD
BEGIN:DAYLIGHT
TZOFFSETFROM:-0500
TZOFFSETTO:-0400
TZNAME:EDT
DTSTART:20240310T070000
END:DAYLIGHT
BEGIN:STANDARD
TZOFFSETFROM:-0400
TZOFFSETTO:-0500
TZNAME:EST
DTSTART:20241103T060000
END:STANDARD
BEGIN:DAYLIGHT
TZOFFSETFROM:-0500
TZOFFSETTO:-0400
TZNAME:EDT
DTSTART:20250309T070000
END:DAYLIGHT
BEGIN:STANDARD
TZOFFSETFROM:-0400
TZOFFSETTO:-0500
TZNAME:EST
DTSTART:20251102T060000
END:STANDARD
END:VTIMEZONE
BEGIN:VEVENT
DTSTART;TZID=America/New_York:20241028T170000
DTEND;TZID=America/New_York:20241028T183000
DTSTAMP:20260421T092859
CREATED:20241027T223815Z
LAST-MODIFIED:20241028T035502Z
UID:6349-1730134800-1730140200@leerepublican.com
SUMMARY:Flag Waving and Prayer Event
DESCRIPTION:Last Week Flag Waving\nLet’s wave our flags and pray for our Nation and for President Donald J. Trump\nTogether\, we must stop the Deep State New World Order\nFlag Waving Event1\nPlease join us at the Coralwood Mall parking lot\, near Truist Bank\, for a special prayer for our Nation and President Trump\, as well as all those affected by the attempted destruction of the Republic \nEvery day until election day\, 5:00 to 6:30 pm \nBring your Bibles\, Flags\, and Patriotic Gear
URL:https://leerepublican.com/event/flag-waving-and-prayer-event-2/
LOCATION:Coralwood Mall\, 2223 Del Prado Blvd S\, Cape Coral\, FL\, 33990\, United States
CATEGORIES:Special Event
ATTACH;FMTTYPE=image/jpeg:https://leerepublican.com/wp-content/uploads/2024/07/Trump-Shot.jpg
ORGANIZER;CN="LCRA":MAILTO:tickets@leerepublican.com
END:VEVENT
BEGIN:VEVENT
DTSTART;TZID=America/New_York:20241102T103000
DTEND;TZID=America/New_York:20241102T160000
DTSTAMP:20260421T092859
CREATED:20241022T163422Z
LAST-MODIFIED:20241031T172955Z
UID:6083-1730543400-1730563200@leerepublican.com
SUMMARY:"Rescue America" Parade and Assembly
DESCRIPTION:The “Rescue America” Parade and Assembly\nBrought to you by:\n\nThe Lee County Republican Assembly\nReTrumplicans\n\nSaturday\, Nov. 2nd\nDeparture Times for each Parade Route:\n\nNFM – 11:30am\n\nBig Lots Parking Lot\n\n\nPine Island – 11:20am\n\nMiceli’s Restaurant\n\n\nCape Coral – 11:10am\n\nCoralwood Mall Parking Lot\n\n\nFort Myers – 11:15am\n\nMcGregor Pointe Parking Lot\n\n\nLehigh – 10:45am\n\nLehigh Resort Club\n\n\nBonita/Estero – 11:00am\n\nDillard’s/Coconut Point\n\n\nRally after parades – 12:00pm – 4:00pm\n\nSunset Harbor Village\n\n\n\nLet’s remind everyone that this may well be the last election in America! \nShow your support for Trump & join the car parade. \nAfter the parade\, join us at the event to support vendors\, listen to speakers\, and meet like-minded patriots. \nClick here for more details on each parade route\nFull Parade Route information\, departure times\, and route maps are there. \nThe maps below will get you to the starting points. \nArrive 30-60 minutes earlier than posted departure times and network with other patriots! \nPlease RSVP\, indicating which Parade you are interested in participating in\, and so we can keep you informed of future events.
URL:https://leerepublican.com/event/rescue-america/
LOCATION:North Fort Myers – Big Lots\, 13970 N Cleveland Ave.\, North Fort Myers\, FL\, 33903\, United States
CATEGORIES:Promoted Events,Special Event
ATTACH;FMTTYPE=image/jpeg:https://leerepublican.com/wp-content/uploads/2024/10/Trump.jpg
ORGANIZER;CN="LCRA":MAILTO:tickets@leerepublican.com
END:VEVENT
BEGIN:VEVENT
DTSTART;TZID=America/New_York:20241028T170000
DTEND;TZID=America/New_York:20241028T183000
DTSTAMP:20260421T092859
CREATED:20241027T223815Z
LAST-MODIFIED:20241028T035502Z
UID:6349-1730134800-1730140200@leerepublican.com
SUMMARY:Flag Waving and Prayer Event
DESCRIPTION:Last Week Flag Waving\nLet’s wave our flags and pray for our Nation and for President Donald J. Trump\nTogether\, we must stop the Deep State New World Order\nFlag Waving Event1\nPlease join us at the Coralwood Mall parking lot\, near Truist Bank\, for a special prayer for our Nation and President Trump\, as well as all those affected by the attempted destruction of the Republic \nEvery day until election day\, 5:00 to 6:30 pm \nBring your Bibles\, Flags\, and Patriotic Gear
URL:https://leerepublican.com/event/flag-waving-and-prayer-event-2/
LOCATION:Coralwood Mall\, 2223 Del Prado Blvd S\, Cape Coral\, FL\, 33990\, United States
CATEGORIES:Special Event
ATTACH;FMTTYPE=image/jpeg:https://leerepublican.com/wp-content/uploads/2024/07/Trump-Shot.jpg
ORGANIZER;CN="LCRA":MAILTO:tickets@leerepublican.com
END:VEVENT
BEGIN:VEVENT
DTSTART;TZID=America/New_York:20241028T170000
DTEND;TZID=America/New_York:20241028T183000
DTSTAMP:20260421T092859
CREATED:20241027T223815Z
LAST-MODIFIED:20241028T035502Z
UID:6349-1730134800-1730140200@leerepublican.com
SUMMARY:Flag Waving and Prayer Event
DESCRIPTION:Last Week Flag Waving\nLet’s wave our flags and pray for our Nation and for President Donald J. Trump\nTogether\, we must stop the Deep State New World Order\nFlag Waving Event1\nPlease join us at the Coralwood Mall parking lot\, near Truist Bank\, for a special prayer for our Nation and President Trump\, as well as all those affected by the attempted destruction of the Republic \nEvery day until election day\, 5:00 to 6:30 pm \nBring your Bibles\, Flags\, and Patriotic Gear
URL:https://leerepublican.com/event/flag-waving-and-prayer-event-2/
LOCATION:Coralwood Mall\, 2223 Del Prado Blvd S\, Cape Coral\, FL\, 33990\, United States
CATEGORIES:Special Event
ATTACH;FMTTYPE=image/jpeg:https://leerepublican.com/wp-content/uploads/2024/07/Trump-Shot.jpg
ORGANIZER;CN="LCRA":MAILTO:tickets@leerepublican.com
END:VEVENT
BEGIN:VEVENT
DTSTART;TZID=America/New_York:20241028T170000
DTEND;TZID=America/New_York:20241028T183000
DTSTAMP:20260421T092859
CREATED:20241027T223815Z
LAST-MODIFIED:20241028T035502Z
UID:6349-1730134800-1730140200@leerepublican.com
SUMMARY:Flag Waving and Prayer Event
DESCRIPTION:Last Week Flag Waving\nLet’s wave our flags and pray for our Nation and for President Donald J. Trump\nTogether\, we must stop the Deep State New World Order\nFlag Waving Event1\nPlease join us at the Coralwood Mall parking lot\, near Truist Bank\, for a special prayer for our Nation and President Trump\, as well as all those affected by the attempted destruction of the Republic \nEvery day until election day\, 5:00 to 6:30 pm \nBring your Bibles\, Flags\, and Patriotic Gear
URL:https://leerepublican.com/event/flag-waving-and-prayer-event-2/
LOCATION:Coralwood Mall\, 2223 Del Prado Blvd S\, Cape Coral\, FL\, 33990\, United States
CATEGORIES:Special Event
ATTACH;FMTTYPE=image/jpeg:https://leerepublican.com/wp-content/uploads/2024/07/Trump-Shot.jpg
ORGANIZER;CN="LCRA":MAILTO:tickets@leerepublican.com
END:VEVENT
BEGIN:VEVENT
DTSTART;TZID=America/New_York:20241028T170000
DTEND;TZID=America/New_York:20241028T183000
DTSTAMP:20260421T092859
CREATED:20241027T223815Z
LAST-MODIFIED:20241028T035502Z
UID:6349-1730134800-1730140200@leerepublican.com
SUMMARY:Flag Waving and Prayer Event
DESCRIPTION:Last Week Flag Waving\nLet’s wave our flags and pray for our Nation and for President Donald J. Trump\nTogether\, we must stop the Deep State New World Order\nFlag Waving Event1\nPlease join us at the Coralwood Mall parking lot\, near Truist Bank\, for a special prayer for our Nation and President Trump\, as well as all those affected by the attempted destruction of the Republic \nEvery day until election day\, 5:00 to 6:30 pm \nBring your Bibles\, Flags\, and Patriotic Gear
URL:https://leerepublican.com/event/flag-waving-and-prayer-event-2/
LOCATION:Coralwood Mall\, 2223 Del Prado Blvd S\, Cape Coral\, FL\, 33990\, United States
CATEGORIES:Special Event
ATTACH;FMTTYPE=image/jpeg:https://leerepublican.com/wp-content/uploads/2024/07/Trump-Shot.jpg
ORGANIZER;CN="LCRA":MAILTO:tickets@leerepublican.com
END:VEVENT
BEGIN:VEVENT
DTSTART;TZID=America/New_York:20241125T173000
DTEND;TZID=America/New_York:20241125T193000
DTSTAMP:20260421T092859
CREATED:20241022T150210Z
LAST-MODIFIED:20241112T143822Z
UID:6076-1732555800-1732563000@leerepublican.com
SUMMARY:LCRA – November 25th Meeting
DESCRIPTION:November 25th Meeting\n5:30 – 7:30 pm\nFort Myers Library Meeting Rooms\n1651 Lee St. \nFort Myers\, FL  33901 \n(see Google Maps link at bottom to add to your device or click here) \n$5 Suggested Donation for guests (waived for REC members at this meeting)\nDoors open at 5:00 for set up \nGuest Speakers:\nSurprise J6 Political Prisoner\, Released\nREC Board Candidates\nAll candidates who wish to speak in front of the Assembly are invited to join us for this Meeting. \nConfirmed Candidates RSVP’s:\nMatt Thornton – Chair \nArmor Persons – Chair \nFred Forbes – Vice Chair \nSean Hartman – Secretary \nCandidates who verbally accepted the invitation:\nMercedes Price-Harry – Chair \nGrant Fichter – Vice Chair \nMary Hartley – Secretary \nSteve Roth – Treasurer \nUnable to attend/Out of Town:\nJosh Molandes – Vice Chair
URL:https://leerepublican.com/event/lcra-november-25th-meeting/
LOCATION:Fort Myers Library Meeting Rooms\, 1651 Lee St.\, Fort Myers\, FL\, 33901\, United States
CATEGORIES:Meeting,Monthly Business Meeting,Special Event
ATTACH;FMTTYPE=image/jpeg:https://leerepublican.com/wp-content/uploads/2024/02/IMG_0068-scaled.jpg
ORGANIZER;CN="LCRA":MAILTO:tickets@leerepublican.com
END:VEVENT
END:VCALENDAR