BEGIN:VCALENDAR
VERSION:2.0
PRODID:-//Lee County Republican Assembly - ECPv6.15.20//NONSGML v1.0//EN
CALSCALE:GREGORIAN
METHOD:PUBLISH
X-ORIGINAL-URL:https://leerepublican.com
X-WR-CALDESC:Events for Lee County Republican Assembly
REFRESH-INTERVAL;VALUE=DURATION:PT1H
X-Robots-Tag:noindex
X-PUBLISHED-TTL:PT1H
BEGIN:VTIMEZONE
TZID:America/New_York
BEGIN:DAYLIGHT
TZOFFSETFROM:-0500
TZOFFSETTO:-0400
TZNAME:EDT
DTSTART:20240310T070000
END:DAYLIGHT
BEGIN:STANDARD
TZOFFSETFROM:-0400
TZOFFSETTO:-0500
TZNAME:EST
DTSTART:20241103T060000
END:STANDARD
BEGIN:DAYLIGHT
TZOFFSETFROM:-0500
TZOFFSETTO:-0400
TZNAME:EDT
DTSTART:20250309T070000
END:DAYLIGHT
BEGIN:STANDARD
TZOFFSETFROM:-0400
TZOFFSETTO:-0500
TZNAME:EST
DTSTART:20251102T060000
END:STANDARD
BEGIN:DAYLIGHT
TZOFFSETFROM:-0500
TZOFFSETTO:-0400
TZNAME:EDT
DTSTART:20260308T070000
END:DAYLIGHT
BEGIN:STANDARD
TZOFFSETFROM:-0400
TZOFFSETTO:-0500
TZNAME:EST
DTSTART:20261101T060000
END:STANDARD
END:VTIMEZONE
BEGIN:VEVENT
DTSTART;TZID=America/New_York:20250413T140000
DTEND;TZID=America/New_York:20250413T160000
DTSTAMP:20260422T102812
CREATED:20250407T204330Z
LAST-MODIFIED:20250413T223259Z
UID:7515-1744552800-1744560000@leerepublican.com
SUMMARY:Election Integrity Town Hall - HB1381
DESCRIPTION:Election Integrity Legislation\nGo to leerepublican.com/political-issues/election-integrity for important legislator contact info on HB1381 and to stream the event video\, as well as other election integrity efforts we do.\nHB1381\, and many other E.I. bills are making their way through Committees in the Legislature\nWe are co-hosting this Town Hall\, along with Defend Florida\, to discuss the nuances of these bills\, especially HB1381. We are working to come to a compromise with legislators on some of the less attractive issues with the bill. Our hope is to accomplish that prior to the Town Hall\, and discuss where we are at\, at that time\, with the bill\, in it’s current form. \nSunday\, April 13\, 2:00 to 4:00 pm\nDoors open at 1:30pm\, meeting begins promptly at 2:00pm\nSeating is limited\, so please RSVP below\n\n3480 North Key Drive\nNorth Fort Myers\, FL 33903\n(see Google Maps link at bottom to add to your device or click here) \nImportant Gate Instructions: \nThe gate should be up. If it’s up\, just drive thru. If it’s down\, guests should push the button and tell the guard that they are going to the “Grand Salon for a meeting under the name of Debra Duvall 301C”\n\nVisit defendflorida.org for more information regarding HB1381\n\n  \n\nThe salon is the clubhouse between the 2 buildings on the left\nParking is the lot nearest the building\nOverflow parking in field\nSchooner Bay Grand Salon\nTown Hall Poster Slogans — Amend HB 1381 to Protect Our Elections \n\n“Rep. Mulicka: Amend HB 1381 – Fix the Vote-by-Mail Citizenship Loophole!”\n“No Proof of Citizenship to Vote by Mail? Amend HB 1381 Now!”\n“Only U.S. Citizens Should Vote – Amend HB 1381 to Make It Law!”\n“Mail-In Voting Without Citizenship Proof = Risky Elections – Amend HB 1381!”\n“Election Integrity Starts with Citizenship – Fix HB 1381\, Rep. Mulicka!”\n“Chain of Custody = Secure Elections – HB 1381 Needs Teeth!”\n“Rep. Mulicka: Don’t Let Lobbyists Gut HB 1381 – Amend It for the People!”\n“Clean the Voter Rolls – Strengthen HB 1381 Before It’s Too Late!”\n“If You Need ID to Drive\, You Should Need Proof to Vote – Fix HB 1381!”\n“Vote-by-Mail Fraud Is Real – HB 1381 Should Fight It\, Not Ignore It!”\n“Rep. Mulicka: Let the People Be Heard – Don’t Water Down HB 1381!”\n“Amend HB 1381 – 3 Years of Election Integrity Work Can’t Be Tossed!”\n“No Citizenship Check? No Confidence in Our Elections!”\n“Rep. Mulicka: Are You with Florida Voters or with Election Bureaucrats?”\n“Election Security Isn’t Extreme – It’s What HB 1381 Is Missing!”
URL:https://leerepublican.com/event/townhall/
LOCATION:Schooner Bay Grand Salon\, 3480 North Key Drive\, North Fort Myers\, 33903\, United States
CATEGORIES:Special Event
ATTACH;FMTTYPE=image/jpeg:https://leerepublican.com/wp-content/uploads/2025/04/Town-Hall-Meeting.jpg
ORGANIZER;CN="LCRA":MAILTO:tickets@leerepublican.com
END:VEVENT
END:VCALENDAR