BEGIN:VCALENDAR
VERSION:2.0
PRODID:-//Lee County Republican Assembly - ECPv6.15.20//NONSGML v1.0//EN
CALSCALE:GREGORIAN
METHOD:PUBLISH
X-WR-CALNAME:Lee County Republican Assembly
X-ORIGINAL-URL:https://leerepublican.com
X-WR-CALDESC:Events for Lee County Republican Assembly
REFRESH-INTERVAL;VALUE=DURATION:PT1H
X-Robots-Tag:noindex
X-PUBLISHED-TTL:PT1H
BEGIN:VTIMEZONE
TZID:America/New_York
BEGIN:DAYLIGHT
TZOFFSETFROM:-0500
TZOFFSETTO:-0400
TZNAME:EDT
DTSTART:20230312T070000
END:DAYLIGHT
BEGIN:STANDARD
TZOFFSETFROM:-0400
TZOFFSETTO:-0500
TZNAME:EST
DTSTART:20231105T060000
END:STANDARD
BEGIN:DAYLIGHT
TZOFFSETFROM:-0500
TZOFFSETTO:-0400
TZNAME:EDT
DTSTART:20240310T070000
END:DAYLIGHT
BEGIN:STANDARD
TZOFFSETFROM:-0400
TZOFFSETTO:-0500
TZNAME:EST
DTSTART:20241103T060000
END:STANDARD
BEGIN:DAYLIGHT
TZOFFSETFROM:-0500
TZOFFSETTO:-0400
TZNAME:EDT
DTSTART:20250309T070000
END:DAYLIGHT
BEGIN:STANDARD
TZOFFSETFROM:-0400
TZOFFSETTO:-0500
TZNAME:EST
DTSTART:20251102T060000
END:STANDARD
END:VTIMEZONE
BEGIN:VEVENT
DTSTART;TZID=America/New_York:20240614T163000
DTEND;TZID=America/New_York:20240615T180000
DTSTAMP:20260422T190732
CREATED:20240605T040524Z
LAST-MODIFIED:20240605T042627Z
UID:4572-1718382600-1718474400@leerepublican.com
SUMMARY:The Will of We the People
DESCRIPTION:2-Day Educational and Take Action Event\nFRIDAY\, JUNE 14th\n4:30 pm – 7:30 pm \nSATURDAY\, JUNE 15th\n8:30 am – 6 pm \nFreedom Fellowship the Villages\n5156 E County Road 462\nWildwood\, Fl.  34785 \nLearn how the vulnerabilities in our election ecosystem are abused to steal the will of We the People.\nLearn how We the People can reclaim their control of our election system.\nLearn the history of how we got to where we are today and take home actionable worksheets to bring unity within your local communities. \nGuest Speakers –\nProfessor Clements’s “Let MY People Go” with Gideon’s 300 Training\nKeith Blandford – Color Revolution\nMark Cook Hand Count Road Show\nSheila Holm – History of America\nTrennis Evans – CondemnedUSA\nPinella’s Watchdogs: Black Swan Events & Election Integrity\nCathi Chamberlain\, Chris Gleason\, and Tina Peters\nCalvin Boydstun – Help Turn Bad Rules into Good Laws\nSOE FL County Whistleblowers \nIT IS STRONGLY SUGGESTED THAT YOU BE PREPARED BEFORE YOU COME FOR THE FRIDAY EVENING SESSION\nMUST – Watch the Documentary in advance\n“Let My People Go” \nClick Here to Watch \nOnly the trailer will be shown at the event: BE PREPARED \nDonations are welcome and appreciated to help with our speaker’s cost
URL:https://leerepublican.com/event/will-of-we-the-people/
LOCATION:Freedom Fellowship Church of The Villages\, 5156 E CR 462\, Wildwood\, FL\, 34785\, United States
CATEGORIES:Promoted Events
ATTACH;FMTTYPE=image/jpeg:https://leerepublican.com/wp-content/uploads/2024/06/wethepeopleflyer.jpg
END:VEVENT
END:VCALENDAR